BEGIN:VCALENDAR
VERSION:2.0
CALSCALE:GREGORIAN
PRODID:-//Diputació de Barcelona//DibaCMS//EN
BEGIN:VEVENT
UID:12569
DTSTAMP:20260424T181815
DTSTART:20260426T120000
DTEND:20260426T120000
SUMMARY:Actuació castellera
LOCATION:
METHOD:PUBLISH
X-WR-CALNAME:oficinaatenciociutadana@tona.cat
X-WR-TIMEZONE:Europe/Madrid
DESCRIPTION:Amb els Sagals d'Osona, els Xics de Granollers i els Castellers de Sabadell

URI:https://www.tona.cat/actualitat/agenda/actuacio-castellera.html
CLASS:PUBLIC
END:VEVENT
END:VCALENDAR
