BEGIN:VCALENDAR
VERSION:2.0
CALSCALE:GREGORIAN
PRODID:-//Diputació de Barcelona//DibaCMS//EN
BEGIN:VEVENT
UID:2696
DTSTAMP:20260422T044640
DTSTART:20151106T170000
DTEND:20151115T200000
SUMMARY:Exposició "DONES A L'OMBRA" de CHAMI GONZÁLEZ
LOCATION:08551 Tona
METHOD:PUBLISH
X-WR-CALNAME:oficinaatenciociutadana@tona.cat
X-WR-TIMEZONE:Europe/Madrid
DESCRIPTION:A la sala d'exposicions de Can Sebastià
URI:https://www.tona.cat/actualitat/agenda/exposicio-dones-a-lombra-de-chami-gonzalez.html
CLASS:PUBLIC
END:VEVENT
END:VCALENDAR
