BEGIN:VCALENDAR
VERSION:2.0
CALSCALE:GREGORIAN
PRODID:-//Diputació de Barcelona//DibaCMS//EN
BEGIN:VEVENT
UID:6671
DTSTAMP:20260419T183822
DTSTART:20201212T100000
DTEND:20210219T203000
SUMMARY:Exposició: EXILIS, FRONTERES, DESARRELAMENTS
LOCATION:
METHOD:PUBLISH
X-WR-CALNAME:oficinaatenciociutadana@tona.cat
X-WR-TIMEZONE:Europe/Madrid
DESCRIPTION:Espai Muriel Casals

 

URI:https://www.tona.cat/actualitat/agenda/exposicio-exilis-fronteres-desarrelaments.html
CLASS:PUBLIC
END:VEVENT
END:VCALENDAR
